BEGIN:VCALENDAR
VERSION:2.0
PRODID:-//www.bethelbaptistellisonbay.org//NONSGML kigkonsult.se iCalcreato
 r 2.39.1//
CALSCALE:GREGORIAN
METHOD:PUBLISH
UID:6e77fe38-cd53-4698-b95b-51c40e7bc515
X-WR-CALNAME:www.bethelbaptistellisonbay.org
X-WR-CALDESC:www.bethelbaptistellisonbay.org
X-WR-TIMEZONE:America/Los_Angeles
X-LIC-LOCATION:America/Los_Angeles
BEGIN:VEVENT
UID:35f39673-228a-4030-971e-8a14e30551b4
DTSTAMP:20260423T115855Z
CLASS:PUBLIC
DTSTART;TZID=America/Los_Angeles:20260426T091500
DTEND;TZID=America/Los_Angeles:20260426T101500
SUMMARY:Sunday School for all Ages
TRANSP:OPAQUE
BEGIN:VALARM
ACTION:DISPLAY
DESCRIPTION:Sunday School for all Ages
TRIGGER:-PT15M
END:VALARM
END:VEVENT
END:VCALENDAR
